BEGIN:VCALENDAR
VERSION:2.0
PRODID:-//Queer Badminton Amsterdam | QBA - ECPv6.15.20//NONSGML v1.0//EN
CALSCALE:GREGORIAN
METHOD:PUBLISH
X-WR-CALNAME:Queer Badminton Amsterdam | QBA
X-ORIGINAL-URL:https://www.queerbadmintonamsterdam.nl
X-WR-CALDESC:Events for Queer Badminton Amsterdam | QBA
REFRESH-INTERVAL;VALUE=DURATION:PT1H
X-Robots-Tag:noindex
X-PUBLISHED-TTL:PT1H
BEGIN:VTIMEZONE
TZID:UTC
BEGIN:STANDARD
TZOFFSETFROM:+0000
TZOFFSETTO:+0000
TZNAME:UTC
DTSTART:20230101T000000
END:STANDARD
END:VTIMEZONE
BEGIN:VEVENT
DTSTART;TZID=UTC:20241208T150000
DTEND;TZID=UTC:20241208T190000
DTSTAMP:20260423T230531
CREATED:20241129T190550Z
LAST-MODIFIED:20241129T192926Z
UID:296-1733670000-1733684400@www.queerbadmintonamsterdam.nl
SUMMARY:Sunday Session
DESCRIPTION:15:00 – 15:30 Free Play (All courts)\n15:30 – 16:30 Beginner Training (3 courts)\, Free Play (6 courts)\n16:30 – 17:30 Advanced Training  (3 courts)\, Free Play (6 courts)\n17:30 – 18:00 Card Play (All courts)\n18:00 – 19:00 Free Play (All courts)
URL:https://www.queerbadmintonamsterdam.nl/event/free-play-25/
LOCATION:Sportcentrum De Pijp\, Lizzy Ansinghstraat 88\, Amsterdam\, 1072 RD\, Netherlands
END:VEVENT
BEGIN:VEVENT
DTSTART;TZID=UTC:20241211T190000
DTEND;TZID=UTC:20241211T230000
DTSTAMP:20260423T230531
CREATED:20241129T190919Z
LAST-MODIFIED:20241129T190919Z
UID:306-1733943600-1733958000@www.queerbadmintonamsterdam.nl
SUMMARY:Free play
DESCRIPTION:
URL:https://www.queerbadmintonamsterdam.nl/event/free-play-29/
LOCATION:Sportcentrum De Pijp\, Lizzy Ansinghstraat 88\, Amsterdam\, 1072 RD\, Netherlands
END:VEVENT
BEGIN:VEVENT
DTSTART;TZID=UTC:20241213T180000
DTEND;TZID=UTC:20241213T200000
DTSTAMP:20260423T230531
CREATED:20241129T191736Z
LAST-MODIFIED:20241129T191736Z
UID:314-1734112800-1734120000@www.queerbadmintonamsterdam.nl
SUMMARY:Free play with feather shuttles
DESCRIPTION:
URL:https://www.queerbadmintonamsterdam.nl/event/free-play-with-feather-shuttles-12/
LOCATION:Sporthal ROC\, Europaboulevard 13\, Amsterdam\, 1079 PC
END:VEVENT
BEGIN:VEVENT
DTSTART;TZID=UTC:20241215T150000
DTEND;TZID=UTC:20241215T190000
DTSTAMP:20260423T230531
CREATED:20241129T190632Z
LAST-MODIFIED:20241129T193716Z
UID:298-1734274800-1734289200@www.queerbadmintonamsterdam.nl
SUMMARY:QBA Christmas Tournament & Dinner
DESCRIPTION:
URL:https://www.queerbadmintonamsterdam.nl/event/qba-christmas-tournament/
LOCATION:Sportcentrum De Pijp\, Lizzy Ansinghstraat 88\, Amsterdam\, 1072 RD\, Netherlands
END:VEVENT
BEGIN:VEVENT
DTSTART;TZID=UTC:20241218T190000
DTEND;TZID=UTC:20241218T230000
DTSTAMP:20260423T230531
CREATED:20241129T190950Z
LAST-MODIFIED:20241129T190950Z
UID:308-1734548400-1734562800@www.queerbadmintonamsterdam.nl
SUMMARY:Free play
DESCRIPTION:
URL:https://www.queerbadmintonamsterdam.nl/event/free-play-30/
LOCATION:Sportcentrum De Pijp\, Lizzy Ansinghstraat 88\, Amsterdam\, 1072 RD\, Netherlands
END:VEVENT
BEGIN:VEVENT
DTSTART;TZID=UTC:20241220T180000
DTEND;TZID=UTC:20241220T200000
DTSTAMP:20260423T230531
CREATED:20241129T191812Z
LAST-MODIFIED:20241129T191812Z
UID:316-1734717600-1734724800@www.queerbadmintonamsterdam.nl
SUMMARY:Free play with feather shuttles
DESCRIPTION:
URL:https://www.queerbadmintonamsterdam.nl/event/free-play-with-feather-shuttles-13/
LOCATION:Sporthal ROC\, Europaboulevard 13\, Amsterdam\, 1079 PC
END:VEVENT
BEGIN:VEVENT
DTSTART;TZID=UTC:20241222T150000
DTEND;TZID=UTC:20241222T190000
DTSTAMP:20260423T230531
CREATED:20241129T190704Z
LAST-MODIFIED:20241129T192344Z
UID:300-1734879600-1734894000@www.queerbadmintonamsterdam.nl
SUMMARY:Sunday Session
DESCRIPTION:
URL:https://www.queerbadmintonamsterdam.nl/event/free-play-26/
LOCATION:Sportcentrum De Pijp\, Lizzy Ansinghstraat 88\, Amsterdam\, 1072 RD\, Netherlands
END:VEVENT
BEGIN:VEVENT
DTSTART;VALUE=DATE:20241225
DTEND;VALUE=DATE:20241226
DTSTAMP:20260423T230531
CREATED:20241129T191609Z
LAST-MODIFIED:20241129T205225Z
UID:310-1735084800-1735171199@www.queerbadmintonamsterdam.nl
SUMMARY:NO BADMINTON 🎄
DESCRIPTION:
URL:https://www.queerbadmintonamsterdam.nl/event/free-play-31/
END:VEVENT
BEGIN:VEVENT
DTSTART;VALUE=DATE:20241227
DTEND;VALUE=DATE:20241228
DTSTAMP:20260423T230531
CREATED:20241129T191917Z
LAST-MODIFIED:20241129T205302Z
UID:319-1735257600-1735343999@www.queerbadmintonamsterdam.nl
SUMMARY:NO BADMINTON 🎄
DESCRIPTION:
URL:https://www.queerbadmintonamsterdam.nl/event/free-play-with-feather-shuttles-14/
LOCATION:Sporthal ROC\, Europaboulevard 13\, Amsterdam\, 1079 PC
END:VEVENT
BEGIN:VEVENT
DTSTART;TZID=UTC:20241229T150000
DTEND;TZID=UTC:20241229T190000
DTSTAMP:20260423T230531
CREATED:20241129T190759Z
LAST-MODIFIED:20241210T163609Z
UID:302-1735484400-1735498800@www.queerbadmintonamsterdam.nl
SUMMARY:Sunday Session
DESCRIPTION:
URL:https://www.queerbadmintonamsterdam.nl/event/free-play-27/
LOCATION:Sportcentrum De Pijp\, Lizzy Ansinghstraat 88\, Amsterdam\, 1072 RD\, Netherlands
END:VEVENT
BEGIN:VEVENT
DTSTART;VALUE=DATE:20250101
DTEND;VALUE=DATE:20250102
DTSTAMP:20260423T230531
CREATED:20241129T205041Z
LAST-MODIFIED:20241129T205041Z
UID:337-1735689600-1735775999@www.queerbadmintonamsterdam.nl
SUMMARY:NO BADMINTON 🥂
DESCRIPTION:
URL:https://www.queerbadmintonamsterdam.nl/event/no-badminton-%f0%9f%a5%82/
END:VEVENT
BEGIN:VEVENT
DTSTART;VALUE=DATE:20250103
DTEND;VALUE=DATE:20250104
DTSTAMP:20260423T230531
CREATED:20241129T205111Z
LAST-MODIFIED:20241129T205111Z
UID:339-1735862400-1735948799@www.queerbadmintonamsterdam.nl
SUMMARY:NO BADMINTON
DESCRIPTION:
URL:https://www.queerbadmintonamsterdam.nl/event/no-badminton/
END:VEVENT
BEGIN:VEVENT
DTSTART;TZID=UTC:20250105T150000
DTEND;TZID=UTC:20250105T190000
DTSTAMP:20260423T230531
CREATED:20241129T205132Z
LAST-MODIFIED:20241210T163650Z
UID:341-1736089200-1736103600@www.queerbadmintonamsterdam.nl
SUMMARY:Sunday Session
DESCRIPTION:
URL:https://www.queerbadmintonamsterdam.nl/event/no-badminton-2/
LOCATION:Sportcentrum De Pijp\, Lizzy Ansinghstraat 88\, Amsterdam\, 1072 RD\, Netherlands
END:VEVENT
BEGIN:VEVENT
DTSTART;VALUE=DATE:20260403
DTEND;VALUE=DATE:20260407
DTSTAMP:20260423T230531
CREATED:20260405T083534Z
LAST-MODIFIED:20260405T085026Z
UID:459-1775174400-1775519999@www.queerbadmintonamsterdam.nl
SUMMARY:GSM 2026
DESCRIPTION:GSM 2026 \n Apr 3–6\, Marseille (FRA) \ngsm-marseille.org
URL:https://www.queerbadmintonamsterdam.nl/event/gsm-2026/
END:VEVENT
BEGIN:VEVENT
DTSTART;VALUE=DATE:20260403
DTEND;VALUE=DATE:20260407
DTSTAMP:20260423T230531
CREATED:20260405T085127Z
LAST-MODIFIED:20260405T085127Z
UID:464-1775174400-1775519999@www.queerbadmintonamsterdam.nl
SUMMARY:Tournoi de Tours
DESCRIPTION:Tournoi de Tours \n Apr 3–6\, Tours (FRA) \ntoursangels.fr
URL:https://www.queerbadmintonamsterdam.nl/event/tournoi-de-tours/
END:VEVENT
BEGIN:VEVENT
DTSTART;TZID=UTC:20260408T190000
DTEND;TZID=UTC:20260408T230000
DTSTAMP:20260423T230531
CREATED:20260408T122427Z
LAST-MODIFIED:20260408T122427Z
UID:540-1775674800-1775689200@www.queerbadmintonamsterdam.nl
SUMMARY:Badminton Training
DESCRIPTION:Woensdagavond: 19u – 23u De Pijp (3 banen\, neem zelf veren shuttles mee) \nWednesday evening: 19h – 23h De Pijp (3 courts\, bring your own feather shuttles)
URL:https://www.queerbadmintonamsterdam.nl/event/badminton-training/
LOCATION:Sportcentrum De Pijp\, Lizzy Ansinghstraat 88\, Amsterdam\, 1072 RD\, Netherlands
END:VEVENT
BEGIN:VEVENT
DTSTART;VALUE=DATE:20260409
DTEND;VALUE=DATE:20260414
DTSTAMP:20260423T230531
CREATED:20260405T085210Z
LAST-MODIFIED:20260405T085210Z
UID:466-1775692800-1776124799@www.queerbadmintonamsterdam.nl
SUMMARY:Bristol Swifts Cup
DESCRIPTION:Bristol Swifts Cup \n Apr 9–13\, Bristol (ENG) \nfacebook.com/lgbtbadmintonbristol
URL:https://www.queerbadmintonamsterdam.nl/event/bristol-swifts-cup/
END:VEVENT
BEGIN:VEVENT
DTSTART;TZID=UTC:20260410T180000
DTEND;TZID=UTC:20260410T200000
DTSTAMP:20260423T230531
CREATED:20260408T122525Z
LAST-MODIFIED:20260408T122525Z
UID:542-1775844000-1775851200@www.queerbadmintonamsterdam.nl
SUMMARY:Badminton Training
DESCRIPTION:Vrijdagavond: 18u – 20u ROC Europaboulevard (9 banen\, neem zelf veren shuttles mee) \nFriday evening: 18h – 20h ROC Europaboulevard (9 courts\, bring your own feather shuttles)
URL:https://www.queerbadmintonamsterdam.nl/event/badminton-training-2/
LOCATION:Sporthal ROC\, Europaboulevard 13\, Amsterdam\, 1079 PC
END:VEVENT
BEGIN:VEVENT
DTSTART;TZID=UTC:20260412T150000
DTEND;TZID=UTC:20260412T190000
DTSTAMP:20260423T230531
CREATED:20260408T122616Z
LAST-MODIFIED:20260408T122616Z
UID:544-1776006000-1776020400@www.queerbadmintonamsterdam.nl
SUMMARY:Badminton Training
DESCRIPTION:Zondagmiddag: 15u – 19u De Pijp (9 banen\, inclusief kaartspel + advanced- en beginnerstraining) \nSunday afternoon: 15h – 19h De Pijp (9 courts\, including cardgame + advanced and beginners training)
URL:https://www.queerbadmintonamsterdam.nl/event/badminton-training-3/
LOCATION:Sportcentrum De Pijp\, Lizzy Ansinghstraat 88\, Amsterdam\, 1072 RD\, Netherlands
END:VEVENT
BEGIN:VEVENT
DTSTART;TZID=UTC:20260415T190000
DTEND;TZID=UTC:20260415T230000
DTSTAMP:20260423T230531
CREATED:20260418T214120Z
LAST-MODIFIED:20260418T214120Z
UID:556-1776279600-1776294000@www.queerbadmintonamsterdam.nl
SUMMARY:Badminton Training
DESCRIPTION:Woensdagavond: 19u – 23u De Pijp (3 banen\, neem zelf veren shuttles mee)\nWednesday evening: 19h – 23h De Pijp (3 courts\, bring your own feather shuttles)
URL:https://www.queerbadmintonamsterdam.nl/event/badminton-training-5/
LOCATION:Sportcentrum De Pijp\, Lizzy Ansinghstraat 88\, Amsterdam\, 1072 RD\, Netherlands
END:VEVENT
BEGIN:VEVENT
DTSTART;VALUE=DATE:20260417
DTEND;VALUE=DATE:20260420
DTSTAMP:20260423T230531
CREATED:20260405T085301Z
LAST-MODIFIED:20260405T085301Z
UID:468-1776384000-1776643199@www.queerbadmintonamsterdam.nl
SUMMARY:Queer Sport Weekend
DESCRIPTION:Queer Sport Weekend \n Apr 17–19\, Zagreb (HRV) \nhr.qsport.info
URL:https://www.queerbadmintonamsterdam.nl/event/queer-sport-weekend/
END:VEVENT
BEGIN:VEVENT
DTSTART;TZID=UTC:20260417T180000
DTEND;TZID=UTC:20260417T200000
DTSTAMP:20260423T230531
CREATED:20260418T214212Z
LAST-MODIFIED:20260418T214212Z
UID:558-1776448800-1776456000@www.queerbadmintonamsterdam.nl
SUMMARY:Badminton Training
DESCRIPTION:Vrijdagavond: 18u – 20u ROC Europaboulevard (9 banen\, neem zelf veren shuttles mee)\nFriday evening: 18h – 20h ROC Europaboulevard (9 courts\, bring your own feather shuttles)
URL:https://www.queerbadmintonamsterdam.nl/event/badminton-training-6/
LOCATION:Sporthal ROC\, Europaboulevard 13\, Amsterdam\, 1079 PC
END:VEVENT
BEGIN:VEVENT
DTSTART;VALUE=DATE:20260418
DTEND;VALUE=DATE:20260420
DTSTAMP:20260423T230531
CREATED:20260405T085444Z
LAST-MODIFIED:20260405T085444Z
UID:470-1776470400-1776643199@www.queerbadmintonamsterdam.nl
SUMMARY:Bad Girls
DESCRIPTION:Bad Girls \n Apr 18–19\, Paris (FRA) \nbadattitude.fr
URL:https://www.queerbadmintonamsterdam.nl/event/bad-girls/
END:VEVENT
BEGIN:VEVENT
DTSTART;TZID=UTC:20260419T150000
DTEND;TZID=UTC:20260419T190000
DTSTAMP:20260423T230531
CREATED:20260418T214312Z
LAST-MODIFIED:20260418T214312Z
UID:560-1776610800-1776625200@www.queerbadmintonamsterdam.nl
SUMMARY:Badminton Training
DESCRIPTION:Zondagmiddag: 15u – 19u De Pijp (9 banen\, inclusief kaartspel + advanced- en beginnerstraining)\nSunday afternoon: 15h – 19h De Pijp (9 courts\, including cardgame + advanced and beginners training)
URL:https://www.queerbadmintonamsterdam.nl/event/badminton-training-7/
LOCATION:Sportcentrum De Pijp\, Lizzy Ansinghstraat 88\, Amsterdam\, 1072 RD\, Netherlands
END:VEVENT
BEGIN:VEVENT
DTSTART;TZID=UTC:20260422T190000
DTEND;TZID=UTC:20260422T230000
DTSTAMP:20260423T230531
CREATED:20260421T133034Z
LAST-MODIFIED:20260421T133034Z
UID:632-1776884400-1776898800@www.queerbadmintonamsterdam.nl
SUMMARY:Badminton Training
DESCRIPTION:Woensdagavond: 19u – 23u De Pijp (3 banen\, neem zelf veren shuttles mee)\nWednesday evening: 19h – 23h De Pijp (3 courts\, bring your own feather shuttles)
URL:https://www.queerbadmintonamsterdam.nl/event/badminton-training-4/
LOCATION:Sportcentrum De Pijp\, Lizzy Ansinghstraat 88\, Amsterdam\, 1072 RD\, Netherlands
END:VEVENT
BEGIN:VEVENT
DTSTART;TZID=UTC:20260424T180000
DTEND;TZID=UTC:20260424T190000
DTSTAMP:20260423T230531
CREATED:20260421T133136Z
LAST-MODIFIED:20260421T133136Z
UID:634-1777053600-1777057200@www.queerbadmintonamsterdam.nl
SUMMARY:Badminton Training
DESCRIPTION:Vrijdagavond: 18u – 20u ROC Europaboulevard (9 banen\, neem zelf veren shuttles mee)\nFriday evening: 18h – 20h ROC Europaboulevard (9 courts\, bring your own feather shuttles)
URL:https://www.queerbadmintonamsterdam.nl/event/badminton-training-8/
LOCATION:Sporthal ROC\, Europaboulevard 13\, Amsterdam\, 1079 PC
END:VEVENT
BEGIN:VEVENT
DTSTART;VALUE=DATE:20260425
DTEND;VALUE=DATE:20260426
DTSTAMP:20260423T230531
CREATED:20260405T085536Z
LAST-MODIFIED:20260405T085536Z
UID:472-1777075200-1777161599@www.queerbadmintonamsterdam.nl
SUMMARY:TIGRE
DESCRIPTION:TIGRE \n Apr 25\, Rennes (FRA) \nglsrennes.net
URL:https://www.queerbadmintonamsterdam.nl/event/tigre/
END:VEVENT
BEGIN:VEVENT
DTSTART;VALUE=DATE:20260425
DTEND;VALUE=DATE:20260426
DTSTAMP:20260423T230531
CREATED:20260405T085618Z
LAST-MODIFIED:20260405T085618Z
UID:474-1777075200-1777161599@www.queerbadmintonamsterdam.nl
SUMMARY:Rheinbow Turnier
DESCRIPTION:Rheinbow Turnier \n Apr 25\, Basel (SUI) \nqueerbadminton.ch
URL:https://www.queerbadmintonamsterdam.nl/event/rheinbow-turnier/
END:VEVENT
BEGIN:VEVENT
DTSTART;TZID=UTC:20260426T150000
DTEND;TZID=UTC:20260426T190000
DTSTAMP:20260423T230531
CREATED:20260421T133219Z
LAST-MODIFIED:20260421T133229Z
UID:636-1777215600-1777230000@www.queerbadmintonamsterdam.nl
SUMMARY:Badminton Training
DESCRIPTION:Zondagmiddag: 15u – 19u De Pijp (9 banen\, inclusief kaartspel + advanced- en beginnerstraining)\nSunday afternoon: 15h – 19h De Pijp (9 courts\, including cardgame + advanced and beginners training)
URL:https://www.queerbadmintonamsterdam.nl/event/badminton-training-9/
LOCATION:Sportcentrum De Pijp\, Lizzy Ansinghstraat 88\, Amsterdam\, 1072 RD\, Netherlands
END:VEVENT
BEGIN:VEVENT
DTSTART;VALUE=DATE:20260427
DTEND;VALUE=DATE:20260428
DTSTAMP:20260423T230531
CREATED:20260414T121156Z
LAST-MODIFIED:20260414T121156Z
UID:554-1777248000-1777334399@www.queerbadmintonamsterdam.nl
SUMMARY:Koningsdag
DESCRIPTION:Public Holiday
URL:https://www.queerbadmintonamsterdam.nl/event/koningsdag/
END:VEVENT
END:VCALENDAR